BEGIN:VCALENDAR
VERSION:2.0
PRODID:-//Daiquiri Shak - ECPv4.9.13//NONSGML v1.0//EN
CALSCALE:GREGORIAN
METHOD:PUBLISH
X-WR-CALNAME:Daiquiri Shak
X-ORIGINAL-URL:https://www.daiquirishak.com
X-WR-CALDESC:Events for Daiquiri Shak
BEGIN:VTIMEZONE
TZID:UTC
BEGIN:STANDARD
TZOFFSETFROM:+0000
TZOFFSETTO:+0000
TZNAME:UTC
DTSTART:20210101T000000
END:STANDARD
END:VTIMEZONE
BEGIN:VEVENT
DTSTART;TZID=UTC:20210131T200000
DTEND;TZID=UTC:20210131T235900
DTSTAMP:20260423T172330
CREATED:20210125T213327Z
LAST-MODIFIED:20210125T213327Z
UID:4226-1612123200-1612137540@www.daiquirishak.com
SUMMARY:ALL STAR OPEN MIC HOSTED BY THE MAD BEACH MAFIA
DESCRIPTION:Come be a rock star! Sing\, play the guitar\, drums or anything else with our house band THE MAD BEACH MAFIA!  Its like karaoke on steroids! \n
URL:https://www.daiquirishak.com/event/all-star-open-mic-hosted-by-the-mad-beach-mafia-3/2021-01-31/
CATEGORIES:Live Music
ATTACH;FMTTYPE=image/jpeg:https://www.daiquirishak.com/wp-content/uploads/2019/12/MBM-Script.jpg
END:VEVENT
END:VCALENDAR