BEGIN:VCALENDAR
VERSION:2.0
PRODID:-//Daiquiri Shak - ECPv4.9.13//NONSGML v1.0//EN
CALSCALE:GREGORIAN
METHOD:PUBLISH
X-WR-CALNAME:Daiquiri Shak
X-ORIGINAL-URL:https://www.daiquirishak.com
X-WR-CALDESC:Events for Daiquiri Shak
BEGIN:VTIMEZONE
TZID:UTC
BEGIN:STANDARD
TZOFFSETFROM:+0000
TZOFFSETTO:+0000
TZNAME:UTC
DTSTART:20210101T000000
END:STANDARD
END:VTIMEZONE
BEGIN:VEVENT
DTSTART;TZID=UTC:20211114T140000
DTEND;TZID=UTC:20211114T180000
DTSTAMP:20260422T220959
CREATED:20211111T172356Z
LAST-MODIFIED:20211111T172357Z
UID:4576-1636898400-1636912800@www.daiquirishak.com
SUMMARY:ANGIE REY BAND LIVE!
DESCRIPTION:Come get your country on! \n
URL:https://www.daiquirishak.com/event/angie-rey-band-live-10/
CATEGORIES:Live Music
ATTACH;FMTTYPE=image/jpeg:https://www.daiquirishak.com/wp-content/uploads/2021/06/Angie-Rey.jpeg
END:VEVENT
END:VCALENDAR