BEGIN:VCALENDAR
VERSION:2.0
PRODID:-//Daiquiri Shak - ECPv4.9.13//NONSGML v1.0//EN
CALSCALE:GREGORIAN
METHOD:PUBLISH
X-WR-CALNAME:Daiquiri Shak
X-ORIGINAL-URL:https://www.daiquirishak.com
X-WR-CALDESC:Events for Daiquiri Shak
BEGIN:VTIMEZONE
TZID:UTC
BEGIN:STANDARD
TZOFFSETFROM:+0000
TZOFFSETTO:+0000
TZNAME:UTC
DTSTART:20220101T000000
END:STANDARD
END:VTIMEZONE
BEGIN:VEVENT
DTSTART;TZID=UTC:20220306T140000
DTEND;TZID=UTC:20220306T180000
DTSTAMP:20260421T224306
CREATED:20220216T173623Z
LAST-MODIFIED:20220216T173623Z
UID:4775-1646575200-1646589600@www.daiquirishak.com
SUMMARY:ANGIE REY PROJECT LIVE!
DESCRIPTION:Come get your country on! \n
URL:https://www.daiquirishak.com/event/angie-rey-project-live-2/
LOCATION:Daiquiri Shak Raw Bar & Grille\, 14995 Gulf Blvd.\, Madeira Beach\, FL\, 33708\, United States
CATEGORIES:Live Music
ATTACH;FMTTYPE=image/jpeg:https://www.daiquirishak.com/wp-content/uploads/2021/06/Angie-Rey.jpeg
END:VEVENT
END:VCALENDAR