BEGIN:VCALENDAR
VERSION:2.0
PRODID:-//Daiquiri Shak - ECPv4.9.13//NONSGML v1.0//EN
CALSCALE:GREGORIAN
METHOD:PUBLISH
X-WR-CALNAME:Daiquiri Shak
X-ORIGINAL-URL:https://www.daiquirishak.com
X-WR-CALDESC:Events for Daiquiri Shak
BEGIN:VTIMEZONE
TZID:UTC
BEGIN:STANDARD
TZOFFSETFROM:+0000
TZOFFSETTO:+0000
TZNAME:UTC
DTSTART:20220101T000000
END:STANDARD
END:VTIMEZONE
BEGIN:VEVENT
DTSTART;TZID=UTC:20221016T140000
DTEND;TZID=UTC:20221016T180000
DTSTAMP:20260422T005819
CREATED:20221001T142502Z
LAST-MODIFIED:20221001T142502Z
UID:5428-1665928800-1665943200@www.daiquirishak.com
SUMMARY:BIG BROTHER LIVE!
DESCRIPTION:SUNDAY FUNDAY WITH THE LEGEND! \n
URL:https://www.daiquirishak.com/event/big-brother-live-14/
LOCATION:Daiquiri Shak Raw Bar & Grille\, 14995 Gulf Blvd.\, Madeira Beach\, FL\, 33708\, United States
CATEGORIES:Live Music
ATTACH;FMTTYPE=image/jpeg:https://www.daiquirishak.com/wp-content/uploads/2019/04/BB-Logo-orange-yellow.jpg
END:VEVENT
END:VCALENDAR