BEGIN:VCALENDAR
VERSION:2.0
PRODID:-//Daiquiri Shak - ECPv4.9.13//NONSGML v1.0//EN
CALSCALE:GREGORIAN
METHOD:PUBLISH
X-WR-CALNAME:Daiquiri Shak
X-ORIGINAL-URL:https://www.daiquirishak.com
X-WR-CALDESC:Events for Daiquiri Shak
BEGIN:VTIMEZONE
TZID:UTC
BEGIN:STANDARD
TZOFFSETFROM:+0000
TZOFFSETTO:+0000
TZNAME:UTC
DTSTART:20210101T000000
END:STANDARD
END:VTIMEZONE
BEGIN:VEVENT
DTSTART;TZID=UTC:20210718T140000
DTEND;TZID=UTC:20210718T180000
DTSTAMP:20260423T065417
CREATED:20210629T174629Z
LAST-MODIFIED:20210629T174629Z
UID:4357-1626616800-1626631200@www.daiquirishak.com
SUMMARY:BIG BROTHER LIVE!
DESCRIPTION:BIG BROTHER ROCKING SUNDAY FUNDAY! \n
URL:https://www.daiquirishak.com/event/big-brother-live-6/
LOCATION:Daiquiri Shak Raw Bar & Grille\, 14995 Gulf Blvd.\, Madeira Beach\, FL\, 33708\, United States
CATEGORIES:Live Music
ATTACH;FMTTYPE=image/jpeg:https://www.daiquirishak.com/wp-content/uploads/2019/04/BB-Logo-orange-yellow.jpg
END:VEVENT
END:VCALENDAR