BEGIN:VCALENDAR
VERSION:2.0
PRODID:-//Daiquiri Shak - ECPv4.9.13//NONSGML v1.0//EN
CALSCALE:GREGORIAN
METHOD:PUBLISH
X-WR-CALNAME:Daiquiri Shak
X-ORIGINAL-URL:https://www.daiquirishak.com
X-WR-CALDESC:Events for Daiquiri Shak
BEGIN:VTIMEZONE
TZID:UTC
BEGIN:STANDARD
TZOFFSETFROM:+0000
TZOFFSETTO:+0000
TZNAME:UTC
DTSTART:20220101T000000
END:STANDARD
END:VTIMEZONE
BEGIN:VEVENT
DTSTART;TZID=UTC:20220320T140000
DTEND;TZID=UTC:20220320T180000
DTSTAMP:20260421T203648
CREATED:20220216T174023Z
LAST-MODIFIED:20220216T174023Z
UID:4783-1647784800-1647799200@www.daiquirishak.com
SUMMARY:BIG BROTHER LIVE!
DESCRIPTION:SUNDAY FUNDAY! \n
URL:https://www.daiquirishak.com/event/big-brother-live-9/
LOCATION:Daiquiri Shak Raw Bar & Grille\, 14995 Gulf Blvd.\, Madeira Beach\, FL\, 33708\, United States
CATEGORIES:Live Music
ATTACH;FMTTYPE=image/jpeg:https://www.daiquirishak.com/wp-content/uploads/2019/04/BB-Logo-orange-yellow.jpg
END:VEVENT
END:VCALENDAR