BEGIN:VCALENDAR
VERSION:2.0
PRODID:-//Daiquiri Shak - ECPv4.9.13//NONSGML v1.0//EN
CALSCALE:GREGORIAN
METHOD:PUBLISH
X-WR-CALNAME:Daiquiri Shak
X-ORIGINAL-URL:https://www.daiquirishak.com
X-WR-CALDESC:Events for Daiquiri Shak
BEGIN:VTIMEZONE
TZID:UTC
BEGIN:STANDARD
TZOFFSETFROM:+0000
TZOFFSETTO:+0000
TZNAME:UTC
DTSTART:20210101T000000
END:STANDARD
END:VTIMEZONE
BEGIN:VEVENT
DTSTART;TZID=UTC:20210115T200000
DTEND;TZID=UTC:20210115T230000
DTSTAMP:20260423T174955
CREATED:20210104T193217Z
LAST-MODIFIED:20210104T193218Z
UID:4194-1610740800-1610751600@www.daiquirishak.com
SUMMARY:BILLINGS/WAGNER live Acoustic!
DESCRIPTION:
URL:https://www.daiquirishak.com/event/billings-wagner-live-acoustic-2/
LOCATION:Daiquiri Shak Raw Bar & Grille\, 14995 Gulf Blvd.\, Madeira Beach\, FL\, 33708\, United States
CATEGORIES:Live Music
END:VEVENT
END:VCALENDAR