BEGIN:VCALENDAR
VERSION:2.0
PRODID:-//Daiquiri Shak - ECPv4.9.13//NONSGML v1.0//EN
CALSCALE:GREGORIAN
METHOD:PUBLISH
X-WR-CALNAME:Daiquiri Shak
X-ORIGINAL-URL:https://www.daiquirishak.com
X-WR-CALDESC:Events for Daiquiri Shak
BEGIN:VTIMEZONE
TZID:UTC
BEGIN:STANDARD
TZOFFSETFROM:+0000
TZOFFSETTO:+0000
TZNAME:UTC
DTSTART:20220101T000000
END:STANDARD
END:VTIMEZONE
BEGIN:VEVENT
DTSTART;TZID=UTC:20220612T140000
DTEND;TZID=UTC:20220612T180000
DTSTAMP:20260422T104144
CREATED:20220517T180345Z
LAST-MODIFIED:20220517T180345Z
UID:4864-1655042400-1655056800@www.daiquirishak.com
SUMMARY:CROSSFIRE CREEK BAND!
DESCRIPTION:COUNTRY! THE BEST IN THE BAY AREA! \n
URL:https://www.daiquirishak.com/event/crossfire-creek-band-2/
LOCATION:Daiquiri Shak Raw Bar & Grille\, 14995 Gulf Blvd.\, Madeira Beach\, FL\, 33708\, United States
CATEGORIES:Live Music
ATTACH;FMTTYPE=image/png:https://www.daiquirishak.com/wp-content/uploads/2022/04/Crossfire-Creek-Official-Lineup-Pic-3.3.22-2.png
END:VEVENT
END:VCALENDAR