BEGIN:VCALENDAR
VERSION:2.0
PRODID:-//Daiquiri Shak - ECPv4.9.13//NONSGML v1.0//EN
CALSCALE:GREGORIAN
METHOD:PUBLISH
X-WR-CALNAME:Daiquiri Shak
X-ORIGINAL-URL:https://www.daiquirishak.com
X-WR-CALDESC:Events for Daiquiri Shak
BEGIN:VTIMEZONE
TZID:UTC
BEGIN:STANDARD
TZOFFSETFROM:+0000
TZOFFSETTO:+0000
TZNAME:UTC
DTSTART:20220101T000000
END:STANDARD
END:VTIMEZONE
BEGIN:VEVENT
DTSTART;TZID=UTC:20220313T140000
DTEND;TZID=UTC:20220313T180000
DTSTAMP:20260421T204918
CREATED:20220216T173719Z
LAST-MODIFIED:20220216T173720Z
UID:4777-1647180000-1647194400@www.daiquirishak.com
SUMMARY:CROSSFIRE CREEK LIVE!
DESCRIPTION:Come get your country on! \n
URL:https://www.daiquirishak.com/event/crossfire-creek-live-2/
LOCATION:Daiquiri Shak Raw Bar & Grille\, 14995 Gulf Blvd.\, Madeira Beach\, FL\, 33708\, United States
CATEGORIES:Live Music
ATTACH;FMTTYPE=image/jpeg:https://www.daiquirishak.com/wp-content/uploads/2021/07/177700261_303392011184035_8248708709433412316_n.jpeg
END:VEVENT
END:VCALENDAR