BEGIN:VCALENDAR
VERSION:2.0
PRODID:-//Daiquiri Shak - ECPv4.9.13//NONSGML v1.0//EN
CALSCALE:GREGORIAN
METHOD:PUBLISH
X-WR-CALNAME:Daiquiri Shak
X-ORIGINAL-URL:https://www.daiquirishak.com
X-WR-CALDESC:Events for Daiquiri Shak
BEGIN:VTIMEZONE
TZID:UTC
BEGIN:STANDARD
TZOFFSETFROM:+0000
TZOFFSETTO:+0000
TZNAME:UTC
DTSTART:20220101T000000
END:STANDARD
END:VTIMEZONE
BEGIN:VEVENT
DTSTART;TZID=UTC:20221106T140000
DTEND;TZID=UTC:20221106T180000
DTSTAMP:20260421T230541
CREATED:20221101T160248Z
LAST-MODIFIED:20221101T160248Z
UID:5437-1667743200-1667757600@www.daiquirishak.com
SUMMARY:CROSSFIRE CREEK LIVE!
DESCRIPTION:Come get your country on at 2pm today! \n
URL:https://www.daiquirishak.com/event/crossfire-creek-live-7/
LOCATION:Daiquiri Shak Raw Bar & Grille\, 14995 Gulf Blvd.\, Madeira Beach\, FL\, 33708\, United States
CATEGORIES:Live Music
END:VEVENT
END:VCALENDAR