BEGIN:VCALENDAR
VERSION:2.0
PRODID:-//Daiquiri Shak - ECPv4.9.13//NONSGML v1.0//EN
CALSCALE:GREGORIAN
METHOD:PUBLISH
X-WR-CALNAME:Daiquiri Shak
X-ORIGINAL-URL:https://www.daiquirishak.com
X-WR-CALDESC:Events for Daiquiri Shak
BEGIN:VTIMEZONE
TZID:UTC
BEGIN:STANDARD
TZOFFSETFROM:+0000
TZOFFSETTO:+0000
TZNAME:UTC
DTSTART:20220101T000000
END:STANDARD
END:VTIMEZONE
BEGIN:VEVENT
DTSTART;TZID=UTC:20221015T160000
DTEND;TZID=UTC:20221015T200000
DTSTAMP:20260422T010016
CREATED:20221001T142228Z
LAST-MODIFIED:20221001T142229Z
UID:5424-1665849600-1665864000@www.daiquirishak.com
SUMMARY:ELLIE LEE LIVE
DESCRIPTION:Ellie Rocks! \n
URL:https://www.daiquirishak.com/event/ellie-lee-live-4/
LOCATION:Daiquiri Shak Raw Bar & Grille\, 14995 Gulf Blvd.\, Madeira Beach\, FL\, 33708\, United States
CATEGORIES:Live Music
END:VEVENT
END:VCALENDAR