BEGIN:VCALENDAR
VERSION:2.0
PRODID:-//Daiquiri Shak - ECPv4.9.13//NONSGML v1.0//EN
CALSCALE:GREGORIAN
METHOD:PUBLISH
X-WR-CALNAME:Daiquiri Shak
X-ORIGINAL-URL:https://www.daiquirishak.com
X-WR-CALDESC:Events for Daiquiri Shak
BEGIN:VTIMEZONE
TZID:UTC
BEGIN:STANDARD
TZOFFSETFROM:+0000
TZOFFSETTO:+0000
TZNAME:UTC
DTSTART:20210101T000000
END:STANDARD
END:VTIMEZONE
BEGIN:VEVENT
DTSTART;TZID=UTC:20210716T200000
DTEND;TZID=UTC:20210716T230000
DTSTAMP:20260423T065719
CREATED:20210629T174516Z
LAST-MODIFIED:20210629T174516Z
UID:4355-1626465600-1626476400@www.daiquirishak.com
SUMMARY:GREG BILLINGS & FRIENDS
DESCRIPTION:GREG BILLINGS WITH SPECIAL GUESTS! \n
URL:https://www.daiquirishak.com/event/greg-billings-friends/
LOCATION:Daiquiri Shak Raw Bar & Grille\, 14995 Gulf Blvd.\, Madeira Beach\, FL\, 33708\, United States
CATEGORIES:Live Music
ATTACH;FMTTYPE=image/png:https://www.daiquirishak.com/wp-content/uploads/2019/04/GBB-logo.png
END:VEVENT
END:VCALENDAR