BEGIN:VCALENDAR
VERSION:2.0
PRODID:-//Daiquiri Shak - ECPv4.9.13//NONSGML v1.0//EN
CALSCALE:GREGORIAN
METHOD:PUBLISH
X-WR-CALNAME:Daiquiri Shak
X-ORIGINAL-URL:https://www.daiquirishak.com
X-WR-CALDESC:Events for Daiquiri Shak
BEGIN:VTIMEZONE
TZID:UTC
BEGIN:STANDARD
TZOFFSETFROM:+0000
TZOFFSETTO:+0000
TZNAME:UTC
DTSTART:20200101T000000
END:STANDARD
END:VTIMEZONE
BEGIN:VEVENT
DTSTART;TZID=UTC:20200329T140000
DTEND;TZID=UTC:20200329T170000
DTSTAMP:20260424T003728
CREATED:20200219T222750Z
LAST-MODIFIED:20200224T170411Z
UID:3914-1585490400-1585501200@www.daiquirishak.com
SUMMARY:GREY GOOSE/PATRON MUSIC SERIES PRESENTS MORE IS MORE
DESCRIPTION:
URL:https://www.daiquirishak.com/event/grey-goose-patron-music-series-presents-tba/
CATEGORIES:Live Music
ATTACH;FMTTYPE=image/jpeg:https://www.daiquirishak.com/wp-content/uploads/2020/02/circle.jpg
END:VEVENT
END:VCALENDAR