BEGIN:VCALENDAR
VERSION:2.0
PRODID:-//Daiquiri Shak - ECPv4.9.13//NONSGML v1.0//EN
CALSCALE:GREGORIAN
METHOD:PUBLISH
X-WR-CALNAME:Daiquiri Shak
X-ORIGINAL-URL:https://www.daiquirishak.com
X-WR-CALDESC:Events for Daiquiri Shak
BEGIN:VTIMEZONE
TZID:UTC
BEGIN:STANDARD
TZOFFSETFROM:+0000
TZOFFSETTO:+0000
TZNAME:UTC
DTSTART:20210101T000000
END:STANDARD
END:VTIMEZONE
BEGIN:VEVENT
DTSTART;TZID=UTC:20210306T170000
DTEND;TZID=UTC:20210306T210000
DTSTAMP:20260423T154901
CREATED:20210216T172444Z
LAST-MODIFIED:20210216T172444Z
UID:4258-1615050000-1615064400@www.daiquirishak.com
SUMMARY:JEFF GURNEY LIVE!
DESCRIPTION:JEFF GURNEY LIVE EVERY SATURDAY – 5pm! \n
URL:https://www.daiquirishak.com/event/jeff-gurney-live-3/2021-03-06/
LOCATION:Daiquiri Shak Raw Bar & Grille\, 14995 Gulf Blvd.\, Madeira Beach\, FL\, 33708\, United States
CATEGORIES:Live Music
END:VEVENT
END:VCALENDAR