BEGIN:VCALENDAR
VERSION:2.0
PRODID:-//Daiquiri Shak - ECPv4.9.13//NONSGML v1.0//EN
CALSCALE:GREGORIAN
METHOD:PUBLISH
X-WR-CALNAME:Daiquiri Shak
X-ORIGINAL-URL:https://www.daiquirishak.com
X-WR-CALDESC:Events for Daiquiri Shak
BEGIN:VTIMEZONE
TZID:UTC
BEGIN:STANDARD
TZOFFSETFROM:+0000
TZOFFSETTO:+0000
TZNAME:UTC
DTSTART:20200101T000000
END:STANDARD
END:VTIMEZONE
BEGIN:VEVENT
DTSTART;TZID=UTC:20201010T170000
DTEND;TZID=UTC:20201010T210000
DTSTAMP:20260423T224552
CREATED:20201007T162205Z
LAST-MODIFIED:20201007T162205Z
UID:3935-1602349200-1602363600@www.daiquirishak.com
SUMMARY:Jeff Gurney Live
DESCRIPTION:Jeff Gurney Strumming and doing his thing! \n
URL:https://www.daiquirishak.com/event/jeff-gurney-live/2020-10-10/
CATEGORIES:Live Music
END:VEVENT
END:VCALENDAR