BEGIN:VCALENDAR
VERSION:2.0
PRODID:-//Daiquiri Shak - ECPv4.9.13//NONSGML v1.0//EN
CALSCALE:GREGORIAN
METHOD:PUBLISH
X-WR-CALNAME:Daiquiri Shak
X-ORIGINAL-URL:https://www.daiquirishak.com
X-WR-CALDESC:Events for Daiquiri Shak
BEGIN:VTIMEZONE
TZID:UTC
BEGIN:STANDARD
TZOFFSETFROM:+0000
TZOFFSETTO:+0000
TZNAME:UTC
DTSTART:20200101T000000
END:STANDARD
END:VTIMEZONE
BEGIN:VEVENT
DTSTART;TZID=UTC:20201017T170000
DTEND;TZID=UTC:20201017T210000
DTSTAMP:20260423T224552
CREATED:20201007T162348Z
LAST-MODIFIED:20201007T162348Z
UID:3946-1602954000-1602968400@www.daiquirishak.com
SUMMARY:Kyle Rhode Live
DESCRIPTION:
URL:https://www.daiquirishak.com/event/kyle-rhode-live/
CATEGORIES:Live Music
END:VEVENT
END:VCALENDAR