BEGIN:VCALENDAR
VERSION:2.0
PRODID:-//Daiquiri Shak - ECPv4.9.13//NONSGML v1.0//EN
CALSCALE:GREGORIAN
METHOD:PUBLISH
X-WR-CALNAME:Daiquiri Shak
X-ORIGINAL-URL:https://www.daiquirishak.com
X-WR-CALDESC:Events for Daiquiri Shak
BEGIN:VTIMEZONE
TZID:UTC
BEGIN:STANDARD
TZOFFSETFROM:+0000
TZOFFSETTO:+0000
TZNAME:UTC
DTSTART:20220101T000000
END:STANDARD
END:VTIMEZONE
BEGIN:VEVENT
DTSTART;TZID=UTC:20220909T210000
DTEND;TZID=UTC:20220910T010000
DTSTAMP:20260422T030007
CREATED:20220823T183442Z
LAST-MODIFIED:20220823T184015Z
UID:5398-1662757200-1662771600@www.daiquirishak.com
SUMMARY:LIVE WITHOUT A NET - TRIBUTE TO VAN HALEN!
DESCRIPTION:THESE GUYS ARE THE REAL DEAL! \n
URL:https://www.daiquirishak.com/event/live-without-a-net-tribute-to-van-halen/
LOCATION:Daiquiri Shak Raw Bar & Grille\, 14995 Gulf Blvd.\, Madeira Beach\, FL\, 33708\, United States
CATEGORIES:Live Music
END:VEVENT
END:VCALENDAR