BEGIN:VCALENDAR
VERSION:2.0
PRODID:-//Daiquiri Shak - ECPv4.9.13//NONSGML v1.0//EN
CALSCALE:GREGORIAN
METHOD:PUBLISH
X-WR-CALNAME:Daiquiri Shak
X-ORIGINAL-URL:https://www.daiquirishak.com
X-WR-CALDESC:Events for Daiquiri Shak
BEGIN:VTIMEZONE
TZID:UTC
BEGIN:STANDARD
TZOFFSETFROM:+0000
TZOFFSETTO:+0000
TZNAME:UTC
DTSTART:20210101T000000
END:STANDARD
END:VTIMEZONE
BEGIN:VEVENT
DTSTART;TZID=UTC:20210219T210000
DTEND;TZID=UTC:20210219T235900
DTSTAMP:20260423T155617
CREATED:20210125T213626Z
LAST-MODIFIED:20210125T213627Z
UID:4250-1613768400-1613779140@www.daiquirishak.com
SUMMARY:NATION live!
DESCRIPTION:Nation band rocks! \n
URL:https://www.daiquirishak.com/event/nation-live/
CATEGORIES:Live Music
ATTACH;FMTTYPE=image/jpeg:https://www.daiquirishak.com/wp-content/uploads/2019/09/36522957_1882270601837270_4641019365158813696_n.jpg
END:VEVENT
END:VCALENDAR