BEGIN:VCALENDAR
VERSION:2.0
PRODID:-//Daiquiri Shak - ECPv4.9.13//NONSGML v1.0//EN
CALSCALE:GREGORIAN
METHOD:PUBLISH
X-WR-CALNAME:Daiquiri Shak
X-ORIGINAL-URL:https://www.daiquirishak.com
X-WR-CALDESC:Events for Daiquiri Shak
BEGIN:VTIMEZONE
TZID:UTC
BEGIN:STANDARD
TZOFFSETFROM:+0000
TZOFFSETTO:+0000
TZNAME:UTC
DTSTART:20210101T000000
END:STANDARD
END:VTIMEZONE
BEGIN:VEVENT
DTSTART;TZID=UTC:20211231T210000
DTEND;TZID=UTC:20211231T230000
DTSTAMP:20260422T182909
CREATED:20211111T173026Z
LAST-MODIFIED:20211111T173026Z
UID:4584-1640984400-1640991600@www.daiquirishak.com
SUMMARY:NEW YEAR EVE BASH hosted by BIG BROTHER!
DESCRIPTION:Come ring in the New Year with BIG BROTHER! DETAILS TO FOLLOW! \n
URL:https://www.daiquirishak.com/event/new-year-eve-bash-hosted-by-big-brother/
CATEGORIES:Live Music
ATTACH;FMTTYPE=image/jpeg:https://www.daiquirishak.com/wp-content/uploads/2019/04/BB-Logo-orange-yellow.jpg
END:VEVENT
END:VCALENDAR