BEGIN:VCALENDAR
VERSION:2.0
PRODID:-//Daiquiri Shak - ECPv4.9.13//NONSGML v1.0//EN
CALSCALE:GREGORIAN
METHOD:PUBLISH
X-WR-CALNAME:Daiquiri Shak
X-ORIGINAL-URL:https://www.daiquirishak.com
X-WR-CALDESC:Events for Daiquiri Shak
BEGIN:VTIMEZONE
TZID:UTC
BEGIN:STANDARD
TZOFFSETFROM:+0000
TZOFFSETTO:+0000
TZNAME:UTC
DTSTART:20200101T000000
END:STANDARD
END:VTIMEZONE
BEGIN:VEVENT
DTSTART;TZID=UTC:20201231T190000
DTEND;TZID=UTC:20210101T190000
DTSTAMP:20260423T192032
CREATED:20201204T143603Z
LAST-MODIFIED:20201221T185357Z
UID:3968-1609441200-1609527600@www.daiquirishak.com
SUMMARY:NEW YEARS EVE BASH HOSTED BY BIG BROTHER!
DESCRIPTION:The Daiquiri Shak Annual New Years Eve Bash!  Hosted by BIG BROTHER…party favors\, champagne toast and more! \n
URL:https://www.daiquirishak.com/event/new-years-eve-bash-hosted-by-big-brother/
LOCATION:Daiquiri Shak Raw Bar & Grille\, 14995 Gulf Blvd.\, Madeira Beach\, FL\, 33708\, United States
CATEGORIES:Live Music
ATTACH;FMTTYPE=image/jpeg:https://www.daiquirishak.com/wp-content/uploads/2020/12/NYE.jpg
END:VEVENT
END:VCALENDAR