BEGIN:VCALENDAR
VERSION:2.0
PRODID:-//Daiquiri Shak - ECPv4.9.13//NONSGML v1.0//EN
CALSCALE:GREGORIAN
METHOD:PUBLISH
X-WR-CALNAME:Daiquiri Shak
X-ORIGINAL-URL:https://www.daiquirishak.com
X-WR-CALDESC:Events for Daiquiri Shak
BEGIN:VTIMEZONE
TZID:UTC
BEGIN:STANDARD
TZOFFSETFROM:+0000
TZOFFSETTO:+0000
TZNAME:UTC
DTSTART:20220101T000000
END:STANDARD
END:VTIMEZONE
BEGIN:VEVENT
DTSTART;TZID=UTC:20221105T180000
DTEND;TZID=UTC:20221105T220000
DTSTAMP:20260422T005622
CREATED:20221101T160151Z
LAST-MODIFIED:20221101T160151Z
UID:5435-1667671200-1667685600@www.daiquirishak.com
SUMMARY:NINO live!
DESCRIPTION:NINO ROCKS at 6pm today! \n
URL:https://www.daiquirishak.com/event/nino-live-4/
LOCATION:Daiquiri Shak Raw Bar & Grille\, 14995 Gulf Blvd.\, Madeira Beach\, FL\, 33708\, United States
CATEGORIES:Live Music
END:VEVENT
END:VCALENDAR