BEGIN:VCALENDAR
VERSION:2.0
PRODID:-//Daiquiri Shak - ECPv4.9.13//NONSGML v1.0//EN
CALSCALE:GREGORIAN
METHOD:PUBLISH
X-WR-CALNAME:Daiquiri Shak
X-ORIGINAL-URL:https://www.daiquirishak.com
X-WR-CALDESC:Events for Daiquiri Shak
BEGIN:VTIMEZONE
TZID:UTC
BEGIN:STANDARD
TZOFFSETFROM:+0000
TZOFFSETTO:+0000
TZNAME:UTC
DTSTART:20210101T000000
END:STANDARD
END:VTIMEZONE
BEGIN:VEVENT
DTSTART;TZID=UTC:20211124T210000
DTEND;TZID=UTC:20211124T233000
DTSTAMP:20260422T220258
CREATED:20211111T172707Z
LAST-MODIFIED:20211111T172707Z
UID:4580-1637787600-1637796600@www.daiquirishak.com
SUMMARY:PITBULL TODDLER THANKSGIVING EVE THROWDOWN!
DESCRIPTION:PITBULL TODDLER LIVE!  START YOUR HOLIDAY RIGHT WITH A FACE MELTING! \n
URL:https://www.daiquirishak.com/event/pitbull-toddler-thanksgiving-eve-throwdown/
LOCATION:Daiquiri Shak Raw Bar & Grille\, 14995 Gulf Blvd.\, Madeira Beach\, FL\, 33708\, United States
CATEGORIES:Live Music
ATTACH;FMTTYPE=image/jpeg:https://www.daiquirishak.com/wp-content/uploads/2019/06/Black-Pitbull-Bud.jpg
END:VEVENT
END:VCALENDAR