BEGIN:VCALENDAR
VERSION:2.0
PRODID:-//Daiquiri Shak - ECPv4.9.13//NONSGML v1.0//EN
CALSCALE:GREGORIAN
METHOD:PUBLISH
X-WR-CALNAME:Daiquiri Shak
X-ORIGINAL-URL:https://www.daiquirishak.com
X-WR-CALDESC:Events for Daiquiri Shak
BEGIN:VTIMEZONE
TZID:UTC
BEGIN:STANDARD
TZOFFSETFROM:+0000
TZOFFSETTO:+0000
TZNAME:UTC
DTSTART:20220101T000000
END:STANDARD
END:VTIMEZONE
BEGIN:VEVENT
DTSTART;TZID=UTC:20220430T210000
DTEND;TZID=UTC:20220430T210000
DTSTAMP:20260422T105033
CREATED:20220426T160048Z
LAST-MODIFIED:20220426T160048Z
UID:4850-1651352400-1651352400@www.daiquirishak.com
SUMMARY:RED SUNDAY LIVE!
DESCRIPTION:Come rock out with the return of THE RED SUNDAY 9pm! \n
URL:https://www.daiquirishak.com/event/red-sunday-live/
LOCATION:Daiquiri Shak Raw Bar & Grille\, 14995 Gulf Blvd.\, Madeira Beach\, FL\, 33708\, United States
CATEGORIES:Live Music
END:VEVENT
END:VCALENDAR