BEGIN:VCALENDAR
VERSION:2.0
PRODID:-//Daiquiri Shak - ECPv4.9.13//NONSGML v1.0//EN
CALSCALE:GREGORIAN
METHOD:PUBLISH
X-WR-CALNAME:Daiquiri Shak
X-ORIGINAL-URL:https://www.daiquirishak.com
X-WR-CALDESC:Events for Daiquiri Shak
BEGIN:VTIMEZONE
TZID:UTC
BEGIN:STANDARD
TZOFFSETFROM:+0000
TZOFFSETTO:+0000
TZNAME:UTC
DTSTART:20220101T000000
END:STANDARD
END:VTIMEZONE
BEGIN:VEVENT
DTSTART;TZID=UTC:20220624T210000
DTEND;TZID=UTC:20220624T235900
DTSTAMP:20260424T084809
CREATED:20220517T181113Z
LAST-MODIFIED:20220517T181255Z
UID:4870-1656104400-1656115140@www.daiquirishak.com
SUMMARY:RISKY BUSINESS! - The Ultimate 80s Party Band!
DESCRIPTION:You wont want to miss this – the debut of RISKY BUSINESS at The Daiquiri Shak! \n
URL:https://www.daiquirishak.com/event/risky-business-the-ultimate-80s-party-band/
LOCATION:Daiquiri Shak Raw Bar & Grille\, 14995 Gulf Blvd.\, Madeira Beach\, FL\, 33708\, United States
CATEGORIES:Live Music
ATTACH;FMTTYPE=image/png:https://www.daiquirishak.com/wp-content/uploads/2022/05/Risky-Business-with-glasses-and-individual-pics-1.png
END:VEVENT
END:VCALENDAR