BEGIN:VCALENDAR
VERSION:2.0
PRODID:-//Daiquiri Shak - ECPv4.9.13//NONSGML v1.0//EN
CALSCALE:GREGORIAN
METHOD:PUBLISH
X-WR-CALNAME:Daiquiri Shak
X-ORIGINAL-URL:https://www.daiquirishak.com
X-WR-CALDESC:Events for Daiquiri Shak
BEGIN:VTIMEZONE
TZID:UTC
BEGIN:STANDARD
TZOFFSETFROM:+0000
TZOFFSETTO:+0000
TZNAME:UTC
DTSTART:20250101T000000
END:STANDARD
END:VTIMEZONE
BEGIN:VEVENT
DTSTART;TZID=UTC:20250502T200000
DTEND;TZID=UTC:20250502T200000
DTSTAMP:20260421T105944
CREATED:20250422T151651Z
LAST-MODIFIED:20250422T151651Z
UID:7997-1746216000-1746216000@www.daiquirishak.com
SUMMARY:SALT CRUSH BAND LIVE!
DESCRIPTION:This guys are cool! \n
URL:https://www.daiquirishak.com/event/salt-crush-band-live-5/
LOCATION:Daiquiri Shak Raw Bar & Grille\, 14995 Gulf Blvd.\, Madeira Beach\, FL\, 33708\, United States
CATEGORIES:Live Music
END:VEVENT
END:VCALENDAR