BEGIN:VCALENDAR
VERSION:2.0
PRODID:-//Daiquiri Shak - ECPv4.9.13//NONSGML v1.0//EN
CALSCALE:GREGORIAN
METHOD:PUBLISH
X-WR-CALNAME:Daiquiri Shak
X-ORIGINAL-URL:https://www.daiquirishak.com
X-WR-CALDESC:Events for Daiquiri Shak
BEGIN:VTIMEZONE
TZID:UTC
BEGIN:STANDARD
TZOFFSETFROM:+0000
TZOFFSETTO:+0000
TZNAME:UTC
DTSTART:20220101T000000
END:STANDARD
END:VTIMEZONE
BEGIN:VEVENT
DTSTART;TZID=UTC:20221113T140000
DTEND;TZID=UTC:20221113T180000
DTSTAMP:20260421T230802
CREATED:20221101T160547Z
LAST-MODIFIED:20221101T160547Z
UID:5441-1668348000-1668362400@www.daiquirishak.com
SUMMARY:SOUL CIRCUS COWBOYS LIVE
DESCRIPTION:COUNTRY! \n
URL:https://www.daiquirishak.com/event/soul-circus-cowboys-live-11/
CATEGORIES:Live Music
ATTACH;FMTTYPE=image/png:https://www.daiquirishak.com/wp-content/uploads/2020/02/SSC.png
END:VEVENT
END:VCALENDAR