BEGIN:VCALENDAR
VERSION:2.0
PRODID:-//Daiquiri Shak - ECPv4.9.13//NONSGML v1.0//EN
CALSCALE:GREGORIAN
METHOD:PUBLISH
X-WR-CALNAME:Daiquiri Shak
X-ORIGINAL-URL:https://www.daiquirishak.com
X-WR-CALDESC:Events for Daiquiri Shak
BEGIN:VTIMEZONE
TZID:UTC
BEGIN:STANDARD
TZOFFSETFROM:+0000
TZOFFSETTO:+0000
TZNAME:UTC
DTSTART:20220101T000000
END:STANDARD
END:VTIMEZONE
BEGIN:VEVENT
DTSTART;TZID=UTC:20220402T210000
DTEND;TZID=UTC:20220402T210000
DTSTAMP:20260421T222547
CREATED:20220323T151942Z
LAST-MODIFIED:20220323T151942Z
UID:4813-1648933200-1648933200@www.daiquirishak.com
SUMMARY:SOUL CIRCUS COWBOYS LIVE!
DESCRIPTION:Come get your country on with SOUL CIRCUS COWBOYS! \n
URL:https://www.daiquirishak.com/event/soul-circus-cowboys-live-7/
LOCATION:Daiquiri Shak Raw Bar & Grille\, 14995 Gulf Blvd.\, Madeira Beach\, FL\, 33708\, United States
CATEGORIES:Live Music
ATTACH;FMTTYPE=image/png:https://www.daiquirishak.com/wp-content/uploads/2020/02/SSC.png
END:VEVENT
END:VCALENDAR