BEGIN:VCALENDAR
VERSION:2.0
PRODID:-//Daiquiri Shak - ECPv4.9.13//NONSGML v1.0//EN
CALSCALE:GREGORIAN
METHOD:PUBLISH
X-WR-CALNAME:Daiquiri Shak
X-ORIGINAL-URL:https://www.daiquirishak.com
X-WR-CALDESC:Events for Daiquiri Shak
BEGIN:VTIMEZONE
TZID:UTC
BEGIN:STANDARD
TZOFFSETFROM:+0000
TZOFFSETTO:+0000
TZNAME:UTC
DTSTART:20210101T000000
END:STANDARD
END:VTIMEZONE
BEGIN:VEVENT
DTSTART;TZID=UTC:20210228T140000
DTEND;TZID=UTC:20210228T180000
DTSTAMP:20260423T155200
CREATED:20210202T180001Z
LAST-MODIFIED:20210202T180003Z
UID:4255-1614520800-1614535200@www.daiquirishak.com
SUMMARY:SOUL CIRCUS COWBOYS LIVE!
DESCRIPTION:SUNDAY FUNDAY WITH SOUL CIRCUS COWBOYS! \n
URL:https://www.daiquirishak.com/event/soul-circus-cowboys-live/
LOCATION:Daiquiri Shak Raw Bar & Grille\, 14995 Gulf Blvd.\, Madeira Beach\, FL\, 33708\, United States
CATEGORIES:Live Music
ATTACH;FMTTYPE=image/png:https://www.daiquirishak.com/wp-content/uploads/2020/02/SSC.png
END:VEVENT
END:VCALENDAR