BEGIN:VCALENDAR
VERSION:2.0
PRODID:-//Daiquiri Shak - ECPv4.9.13//NONSGML v1.0//EN
CALSCALE:GREGORIAN
METHOD:PUBLISH
X-WR-CALNAME:Daiquiri Shak
X-ORIGINAL-URL:https://www.daiquirishak.com
X-WR-CALDESC:Events for Daiquiri Shak
BEGIN:VTIMEZONE
TZID:UTC
BEGIN:STANDARD
TZOFFSETFROM:+0000
TZOFFSETTO:+0000
TZNAME:UTC
DTSTART:20220101T000000
END:STANDARD
END:VTIMEZONE
BEGIN:VEVENT
DTSTART;TZID=UTC:20220317T110000
DTEND;TZID=UTC:20220317T230000
DTSTAMP:20260421T185256
CREATED:20220216T173814Z
LAST-MODIFIED:20220216T173814Z
UID:4779-1647514800-1647558000@www.daiquirishak.com
SUMMARY:ST. PATTY's DAY BASH!
DESCRIPTION:
URL:https://www.daiquirishak.com/event/st-pattys-day-bash/
LOCATION:Daiquiri Shak Raw Bar & Grille\, 14995 Gulf Blvd.\, Madeira Beach\, FL\, 33708\, United States
CATEGORIES:Live Music,Specials
END:VEVENT
END:VCALENDAR