BEGIN:VCALENDAR
VERSION:2.0
PRODID:-//Daiquiri Shak - ECPv4.9.13//NONSGML v1.0//EN
CALSCALE:GREGORIAN
METHOD:PUBLISH
X-WR-CALNAME:Daiquiri Shak
X-ORIGINAL-URL:https://www.daiquirishak.com
X-WR-CALDESC:Events for Daiquiri Shak
BEGIN:VTIMEZONE
TZID:UTC
BEGIN:STANDARD
TZOFFSETFROM:+0000
TZOFFSETTO:+0000
TZNAME:UTC
DTSTART:20220101T000000
END:STANDARD
END:VTIMEZONE
BEGIN:VEVENT
DTSTART;TZID=UTC:20220325T210000
DTEND;TZID=UTC:20220325T235900
DTSTAMP:20260421T222649
CREATED:20220216T174123Z
LAST-MODIFIED:20220216T174124Z
UID:4785-1648242000-1648252740@www.daiquirishak.com
SUMMARY:STONEGREY LIVE!
DESCRIPTION:These guys ROCK! \n
URL:https://www.daiquirishak.com/event/stonegrey-live-2/
LOCATION:Daiquiri Shak Raw Bar & Grille\, 14995 Gulf Blvd.\, Madeira Beach\, FL\, 33708\, United States
CATEGORIES:Live Music
ATTACH;FMTTYPE=image/jpeg:https://www.daiquirishak.com/wp-content/uploads/2021/12/stonegrey.jpeg
END:VEVENT
END:VCALENDAR