BEGIN:VCALENDAR
VERSION:2.0
PRODID:-//Daiquiri Shak - ECPv4.9.13//NONSGML v1.0//EN
CALSCALE:GREGORIAN
METHOD:PUBLISH
X-WR-CALNAME:Daiquiri Shak
X-ORIGINAL-URL:https://www.daiquirishak.com
X-WR-CALDESC:Events for Daiquiri Shak
BEGIN:VTIMEZONE
TZID:UTC
BEGIN:STANDARD
TZOFFSETFROM:+0000
TZOFFSETTO:+0000
TZNAME:UTC
DTSTART:20220101T000000
END:STANDARD
END:VTIMEZONE
BEGIN:VEVENT
DTSTART;TZID=UTC:20220625T210000
DTEND;TZID=UTC:20220625T235900
DTSTAMP:20260422T085219
CREATED:20220517T181215Z
LAST-MODIFIED:20220517T181215Z
UID:4874-1656190800-1656201540@www.daiquirishak.com
SUMMARY:STONEGREY LIVE!
DESCRIPTION:These guys ROCK! \n
URL:https://www.daiquirishak.com/event/stonegrey-live-3/
LOCATION:Daiquiri Shak Raw Bar & Grille\, 14995 Gulf Blvd.\, Madeira Beach\, FL\, 33708\, United States
CATEGORIES:Live Music
ATTACH;FMTTYPE=image/jpeg:https://www.daiquirishak.com/wp-content/uploads/2021/12/stonegrey.jpeg
END:VEVENT
END:VCALENDAR