BEGIN:VCALENDAR
VERSION:2.0
PRODID:-//Daiquiri Shak - ECPv4.9.13//NONSGML v1.0//EN
CALSCALE:GREGORIAN
METHOD:PUBLISH
X-WR-CALNAME:Daiquiri Shak
X-ORIGINAL-URL:https://www.daiquirishak.com
X-WR-CALDESC:Events for Daiquiri Shak
BEGIN:VTIMEZONE
TZID:UTC
BEGIN:STANDARD
TZOFFSETFROM:+0000
TZOFFSETTO:+0000
TZNAME:UTC
DTSTART:20210101T000000
END:STANDARD
END:VTIMEZONE
BEGIN:VEVENT
DTSTART;TZID=UTC:20210207T150000
DTEND;TZID=UTC:20210207T230000
DTSTAMP:20260423T154915
CREATED:20210125T213511Z
LAST-MODIFIED:20210125T213511Z
UID:4248-1612710000-1612738800@www.daiquirishak.com
SUMMARY:THE BIG GAME BASH! DJ ROLLIN
DESCRIPTION:Come celebrate the Tampa Bay Bucs in the BIG GAME – Kick off party with DJ ROLLIN 3pm-6pm! \n
URL:https://www.daiquirishak.com/event/the-big-game-bash-dj-rollin/
CATEGORIES:Live Music,Sports
END:VEVENT
END:VCALENDAR