BEGIN:VCALENDAR
VERSION:2.0
PRODID:-//Daiquiri Shak - ECPv4.9.13//NONSGML v1.0//EN
CALSCALE:GREGORIAN
METHOD:PUBLISH
X-WR-CALNAME:Daiquiri Shak
X-ORIGINAL-URL:https://www.daiquirishak.com
X-WR-CALDESC:Events for Daiquiri Shak
BEGIN:VTIMEZONE
TZID:UTC
BEGIN:STANDARD
TZOFFSETFROM:+0000
TZOFFSETTO:+0000
TZNAME:UTC
DTSTART:20240101T000000
END:STANDARD
END:VTIMEZONE
BEGIN:VEVENT
DTSTART;TZID=UTC:20240329T210000
DTEND;TZID=UTC:20240329T210000
DTSTAMP:20260420T172410
CREATED:20240220T173341Z
LAST-MODIFIED:20240220T173341Z
UID:7191-1711746000-1711746000@www.daiquirishak.com
SUMMARY:THE BUS STOP BAND LIVE!
DESCRIPTION:FUNKY! \n
URL:https://www.daiquirishak.com/event/the-bus-stop-band-live/
LOCATION:Daiquiri Shak Raw Bar & Grille\, 14995 Gulf Blvd.\, Madeira Beach\, FL\, 33708\, United States
CATEGORIES:Live Music
END:VEVENT
END:VCALENDAR