BEGIN:VCALENDAR
VERSION:2.0
PRODID:-//Daiquiri Shak - ECPv4.9.13//NONSGML v1.0//EN
CALSCALE:GREGORIAN
METHOD:PUBLISH
X-WR-CALNAME:Daiquiri Shak
X-ORIGINAL-URL:https://www.daiquirishak.com
X-WR-CALDESC:Events for Daiquiri Shak
BEGIN:VTIMEZONE
TZID:UTC
BEGIN:STANDARD
TZOFFSETFROM:+0000
TZOFFSETTO:+0000
TZNAME:UTC
DTSTART:20210101T000000
END:STANDARD
END:VTIMEZONE
BEGIN:VEVENT
DTSTART;TZID=UTC:20211023T210000
DTEND;TZID=UTC:20211023T235900
DTSTAMP:20260423T023249
CREATED:20210928T165116Z
LAST-MODIFIED:20210928T165116Z
UID:4567-1635022800-1635033540@www.daiquirishak.com
SUMMARY:THE RETURN OF THE LOST BOYS!
DESCRIPTION:Come get your dose of ARENA ROCK! \n
URL:https://www.daiquirishak.com/event/the-return-of-the-lost-boys/
LOCATION:Daiquiri Shak Raw Bar & Grille\, 14995 Gulf Blvd.\, Madeira Beach\, FL\, 33708\, United States
CATEGORIES:Live Music
ATTACH;FMTTYPE=image/jpeg:https://www.daiquirishak.com/wp-content/uploads/2019/07/lost-boys.jpg
END:VEVENT
END:VCALENDAR